Package: ncGTW Version: 1.21.0 Command: E:\biocbuild\bbs-3.21-bioc\R\bin\R.exe CMD INSTALL ncGTW StartedAt: 2025-02-09 16:58:12 -0500 (Sun, 09 Feb 2025) EndedAt: 2025-02-09 16:59:36 -0500 (Sun, 09 Feb 2025) EllapsedTime: 83.4 seconds RetCode: 0 Status: OK