Package: ncRNAtools Version: 1.17.0 Command: rm -rf ncRNAtools.buildbin-libdir && mkdir ncRNAtools.buildbin-libdir && /Users/biocbuild/BBS/utils/build-universal.sh ncRNAtools_1.17.0.tar.gz /Library/Frameworks/R.framework/Resources/bin/R ncRNAtools.buildbin-libdir StartedAt: 2025-02-09 22:23:27 -0500 (Sun, 09 Feb 2025) EndedAt: 2025-02-09 22:23:32 -0500 (Sun, 09 Feb 2025) EllapsedTime: 5.1 seconds RetCode: 0 Status: OK PackageFile: ncRNAtools_1.17.0.tgz PackageFileSize: 392.3 KiB