Package: ncRNAtools Version: 1.17.0 Command: /Library/Frameworks/R.framework/Resources/bin/R CMD build --keep-empty-dirs --no-resave-data ncRNAtools StartedAt: 2025-02-12 17:37:13 -0500 (Wed, 12 Feb 2025) EndedAt: 2025-02-12 17:38:28 -0500 (Wed, 12 Feb 2025) EllapsedTime: 75.3 seconds RetCode: 0 Status: OK PackageFile: ncRNAtools_1.17.0.tar.gz PackageFileSize: 318.2 KiB