Package: ncRNAtools Version: 1.17.0 Command: /Library/Frameworks/R.framework/Resources/bin/R CMD INSTALL ncRNAtools StartedAt: 2025-02-12 15:10:46 -0500 (Wed, 12 Feb 2025) EndedAt: 2025-02-12 15:11:03 -0500 (Wed, 12 Feb 2025) EllapsedTime: 16.6 seconds RetCode: 0 Status: OK