Package: ncRNAtools Version: 1.17.0 Command: /home/biocbuild/bbs-3.21-bioc/R/bin/R CMD check --install=check:ncRNAtools.install-out.txt --library=/home/biocbuild/bbs-3.21-bioc/R/site-library --timings ncRNAtools_1.17.0.tar.gz StartedAt: 2025-02-13 00:45:03 -0500 (Thu, 13 Feb 2025) EndedAt: 2025-02-13 00:47:40 -0500 (Thu, 13 Feb 2025) EllapsedTime: 157.2 seconds RetCode: 0 Status: OK CheckDir: ncRNAtools.Rcheck Warnings: 0