Package: ncRNAtools Version: 1.17.0 Command: /home/biocbuild/bbs-3.21-bioc/R/bin/R CMD INSTALL ncRNAtools StartedAt: 2025-02-09 15:22:34 -0500 (Sun, 09 Feb 2025) EndedAt: 2025-02-09 15:22:45 -0500 (Sun, 09 Feb 2025) EllapsedTime: 11.4 seconds RetCode: 0 Status: OK