Package: ncRNAtools Version: 1.17.0 Command: chmod a+r ncRNAtools -R && E:\biocbuild\bbs-3.21-bioc\R\bin\R.exe CMD build --keep-empty-dirs --no-resave-data ncRNAtools StartedAt: 2025-02-09 20:19:06 -0500 (Sun, 09 Feb 2025) EndedAt: 2025-02-09 20:20:23 -0500 (Sun, 09 Feb 2025) EllapsedTime: 77.0 seconds RetCode: 0 Status: OK PackageFile: ncRNAtools_1.17.0.tar.gz PackageFileSize: 289.4 KiB