Package: ncRNAtools Version: 1.17.0 Command: E:\biocbuild\bbs-3.21-bioc\R\bin\R.exe CMD check --no-multiarch --install=check:ncRNAtools.install-out.txt --library=E:\biocbuild\bbs-3.21-bioc\R\library --no-vignettes --timings ncRNAtools_1.17.0.tar.gz StartedAt: 2025-02-13 03:44:28 -0500 (Thu, 13 Feb 2025) EndedAt: 2025-02-13 03:46:39 -0500 (Thu, 13 Feb 2025) EllapsedTime: 131.5 seconds RetCode: 0 Status: OK CheckDir: ncRNAtools.Rcheck Warnings: 0