Package: ncdfFlow Version: 2.53.1 Command: /home/biocbuild/R/R/bin/R CMD check --install=check:ncdfFlow.install-out.txt --library=/home/biocbuild/R/R/site-library --no-vignettes --timings ncdfFlow_2.53.1.tar.gz StartedAt: 2025-01-28 13:12:01 -0000 (Tue, 28 Jan 2025) EndedAt: 2025-01-28 13:14:21 -0000 (Tue, 28 Jan 2025) EllapsedTime: 139.6 seconds RetCode: 0 Status: WARNINGS CheckDir: ncdfFlow.Rcheck Warnings: 3