Package: ncdfFlow Version: 2.53.1 Command: /home/biocbuild/R/R/bin/R CMD INSTALL ncdfFlow StartedAt: 2025-01-29 19:42:16 -0000 (Wed, 29 Jan 2025) EndedAt: 2025-01-29 19:42:36 -0000 (Wed, 29 Jan 2025) EllapsedTime: 19.5 seconds RetCode: 0 Status: OK