Package: ncdfFlow Version: 2.53.1 Command: rm -rf ncdfFlow.buildbin-libdir && mkdir ncdfFlow.buildbin-libdir && /Users/biocbuild/BBS/utils/build-universal.sh ncdfFlow_2.53.1.tar.gz /Library/Frameworks/R.framework/Resources/bin/R ncdfFlow.buildbin-libdir StartedAt: 2025-02-10 01:05:40 -0500 (Mon, 10 Feb 2025) EndedAt: 2025-02-10 01:06:03 -0500 (Mon, 10 Feb 2025) EllapsedTime: 23.2 seconds RetCode: 0 Status: OK PackageFile: ncdfFlow_2.53.1.tgz PackageFileSize: 2.036 MiB