Package: ncdfFlow Version: 2.53.1 Command: /Library/Frameworks/R.framework/Resources/bin/R CMD check --install=check:ncdfFlow.install-out.txt --library=/Library/Frameworks/R.framework/Resources/library --no-vignettes --timings ncdfFlow_2.53.1.tar.gz StartedAt: 2025-02-12 22:03:27 -0500 (Wed, 12 Feb 2025) EndedAt: 2025-02-12 22:05:14 -0500 (Wed, 12 Feb 2025) EllapsedTime: 107.5 seconds RetCode: 0 Status: WARNINGS CheckDir: ncdfFlow.Rcheck Warnings: 3