Package: ncdfFlow Version: 2.53.1 Command: /home/biocbuild/bbs-3.21-bioc/R/bin/R CMD build --keep-empty-dirs --no-resave-data ncdfFlow StartedAt: 2025-02-12 18:18:50 -0500 (Wed, 12 Feb 2025) EndedAt: 2025-02-12 18:19:14 -0500 (Wed, 12 Feb 2025) EllapsedTime: 24.0 seconds RetCode: 0 Status: OK PackageFile: ncdfFlow_2.53.1.tar.gz PackageFileSize: 198.5 KiB