Package: ncdfFlow Version: 2.53.1 Command: /home/biocbuild/bbs-3.21-bioc/R/bin/R CMD check --install=check:ncdfFlow.install-out.txt --library=/home/biocbuild/bbs-3.21-bioc/R/site-library --timings ncdfFlow_2.53.1.tar.gz StartedAt: 2025-02-10 00:43:28 -0500 (Mon, 10 Feb 2025) EndedAt: 2025-02-10 00:45:02 -0500 (Mon, 10 Feb 2025) EllapsedTime: 94.1 seconds RetCode: 0 Status: WARNINGS CheckDir: ncdfFlow.Rcheck Warnings: 3