Package: ncdfFlow Version: 2.53.1 Command: /home/biocbuild/bbs-3.21-bioc/R/bin/R CMD INSTALL ncdfFlow StartedAt: 2025-02-09 15:13:36 -0500 (Sun, 09 Feb 2025) EndedAt: 2025-02-09 15:13:50 -0500 (Sun, 09 Feb 2025) EllapsedTime: 13.2 seconds RetCode: 0 Status: OK