Package: ncdfFlow Version: 2.53.1 Command: rm -rf ncdfFlow.buildbin-libdir && mkdir ncdfFlow.buildbin-libdir && E:\biocbuild\bbs-3.21-bioc\R\bin\R.exe CMD INSTALL --build --library=ncdfFlow.buildbin-libdir ncdfFlow_2.53.1.tar.gz StartedAt: 2025-02-13 08:26:39 -0500 (Thu, 13 Feb 2025) EndedAt: 2025-02-13 08:27:33 -0500 (Thu, 13 Feb 2025) EllapsedTime: 53.9 seconds RetCode: 0 Status: OK PackageFile: ncdfFlow_2.53.1.zip PackageFileSize: 1.884 MiB