Package: ncdfFlow Version: 2.53.1 Command: chmod a+r ncdfFlow -R && E:\biocbuild\bbs-3.21-bioc\R\bin\R.exe CMD build --keep-empty-dirs --no-resave-data ncdfFlow StartedAt: 2025-02-09 20:18:41 -0500 (Sun, 09 Feb 2025) EndedAt: 2025-02-09 20:20:02 -0500 (Sun, 09 Feb 2025) EllapsedTime: 80.8 seconds RetCode: 0 Status: OK PackageFile: ncdfFlow_2.53.1.tar.gz PackageFileSize: 184.8 KiB