Package: nempi Version: 1.15.0 Command: /Library/Frameworks/R.framework/Resources/bin/R CMD check --install=check:nempi.install-out.txt --library=/Library/Frameworks/R.framework/Resources/library --no-vignettes --timings nempi_1.15.0.tar.gz StartedAt: 2025-02-09 22:18:53 -0500 (Sun, 09 Feb 2025) EndedAt: 2025-02-09 22:21:25 -0500 (Sun, 09 Feb 2025) EllapsedTime: 151.5 seconds RetCode: 0 Status: OK CheckDir: nempi.Rcheck Warnings: 0