Package: nempi Version: 1.15.0 Command: /home/biocbuild/bbs-3.21-bioc/R/bin/R CMD build --keep-empty-dirs --no-resave-data nempi StartedAt: 2025-02-09 18:23:29 -0500 (Sun, 09 Feb 2025) EndedAt: 2025-02-09 18:24:13 -0500 (Sun, 09 Feb 2025) EllapsedTime: 44.0 seconds RetCode: 0 Status: OK PackageFile: nempi_1.15.0.tar.gz PackageFileSize: 585.1 KiB