Package: nempi Version: 1.15.0 Command: /home/biocbuild/bbs-3.21-bioc/R/bin/R CMD INSTALL nempi StartedAt: 2025-02-09 15:24:48 -0500 (Sun, 09 Feb 2025) EndedAt: 2025-02-09 15:25:04 -0500 (Sun, 09 Feb 2025) EllapsedTime: 15.7 seconds RetCode: 0 Status: OK