Package: nempi Version: 1.15.0 Command: chmod a+r nempi -R && E:\biocbuild\bbs-3.21-bioc\R\bin\R.exe CMD build --keep-empty-dirs --no-resave-data nempi StartedAt: 2025-02-09 20:19:33 -0500 (Sun, 09 Feb 2025) EndedAt: 2025-02-09 20:20:42 -0500 (Sun, 09 Feb 2025) EllapsedTime: 68.5 seconds RetCode: 0 Status: OK PackageFile: nempi_1.15.0.tar.gz PackageFileSize: 373.2 KiB