############################################################################## ############################################################################## ### ### Running command: ### ### /home/biocbuild/bbs-3.21-bioc/R/bin/R CMD build --keep-empty-dirs --no-resave-data netOmics ### ############################################################################## ############################################################################## * checking for file ‘netOmics/DESCRIPTION’ ... OK * preparing ‘netOmics’: * checking DESCRIPTION meta-information ... OK * installing the package to build vignettes ----------------------------------- ERROR: dependency ‘GO.db’ is not available for package ‘netOmics’ Perhaps try a variation of: install.packages('GO.db') * removing ‘/tmp/Rtmp8LRusA/Rinst161a75fe5fa35/netOmics’ ----------------------------------- ERROR: package installation failed