Package: netOmics Version: 1.11.1 Command: /home/biocbuild/bbs-3.21-bioc/R/bin/R CMD INSTALL netOmics StartedAt: 2024-10-24 03:26:07 -0400 (Thu, 24 Oct 2024) EndedAt: 2024-10-24 03:26:09 -0400 (Thu, 24 Oct 2024) EllapsedTime: 2.3 seconds RetCode: 1 Status: ERROR