Package: netZooR Version: 1.11.0 Command: rm -rf netZooR.buildbin-libdir && mkdir netZooR.buildbin-libdir && /Users/biocbuild/BBS/utils/build-universal.sh netZooR_1.11.0.tar.gz /Library/Frameworks/R.framework/Resources/bin/R netZooR.buildbin-libdir StartedAt: 2025-02-09 22:23:41 -0500 (Sun, 09 Feb 2025) EndedAt: 2025-02-09 22:24:08 -0500 (Sun, 09 Feb 2025) EllapsedTime: 26.5 seconds RetCode: 0 Status: OK PackageFile: netZooR_1.11.0.tgz PackageFileSize: 3.745 MiB