Package: netZooR Version: 1.11.0 Command: /Library/Frameworks/R.framework/Resources/bin/R CMD INSTALL netZooR StartedAt: 2025-02-12 15:27:38 -0500 (Wed, 12 Feb 2025) EndedAt: 2025-02-12 15:28:03 -0500 (Wed, 12 Feb 2025) EllapsedTime: 24.6 seconds RetCode: 0 Status: OK