Package: netZooR Version: 1.11.0 Command: rm -rf netZooR.buildbin-libdir && mkdir netZooR.buildbin-libdir && /Users/biocbuild/BBS/utils/build-universal.sh netZooR_1.11.0.tar.gz /Library/Frameworks/R.framework/Resources/bin/R netZooR.buildbin-libdir StartedAt: 2025-02-10 01:05:58 -0500 (Mon, 10 Feb 2025) EndedAt: 2025-02-10 01:07:24 -0500 (Mon, 10 Feb 2025) EllapsedTime: 85.4 seconds RetCode: 0 Status: OK PackageFile: netZooR_1.11.0.tgz PackageFileSize: 3.737 MiB