Package: netZooR Version: 1.11.0 Command: /Library/Frameworks/R.framework/Resources/bin/R CMD INSTALL netZooR StartedAt: 2025-02-09 15:45:21 -0500 (Sun, 09 Feb 2025) EndedAt: 2025-02-09 15:46:38 -0500 (Sun, 09 Feb 2025) EllapsedTime: 77.2 seconds RetCode: 0 Status: OK