Package: netZooR Version: 1.11.0 Command: /home/biocbuild/bbs-3.21-bioc/R/bin/R CMD INSTALL netZooR StartedAt: 2025-02-12 15:46:48 -0500 (Wed, 12 Feb 2025) EndedAt: 2025-02-12 15:47:49 -0500 (Wed, 12 Feb 2025) EllapsedTime: 60.7 seconds RetCode: 0 Status: OK