Package: netZooR Version: 1.11.0 Command: rm -rf netZooR.buildbin-libdir && mkdir netZooR.buildbin-libdir && E:\biocbuild\bbs-3.21-bioc\R\bin\R.exe CMD INSTALL --build --library=netZooR.buildbin-libdir netZooR_1.11.0.tar.gz StartedAt: 2025-02-05 08:28:52 -0500 (Wed, 05 Feb 2025) EndedAt: 2025-02-05 08:30:38 -0500 (Wed, 05 Feb 2025) EllapsedTime: 106.4 seconds RetCode: 0 Status: OK PackageFile: netZooR_1.11.0.zip PackageFileSize: 3.603 MiB