Package: netZooR Version: 1.11.0 Command: E:\biocbuild\bbs-3.21-bioc\R\bin\R.exe CMD INSTALL netZooR StartedAt: 2025-02-04 16:51:56 -0500 (Tue, 04 Feb 2025) EndedAt: 2025-02-04 16:53:24 -0500 (Tue, 04 Feb 2025) EllapsedTime: 87.5 seconds RetCode: 0 Status: OK