Package: netboost Version: 2.15.0 Command: rm -rf netboost.buildbin-libdir && mkdir netboost.buildbin-libdir && /Users/biocbuild/BBS/utils/build-universal.sh netboost_2.15.0.tar.gz /Library/Frameworks/R.framework/Resources/bin/R netboost.buildbin-libdir StartedAt: 2025-02-09 22:23:30 -0500 (Sun, 09 Feb 2025) EndedAt: 2025-02-09 22:23:52 -0500 (Sun, 09 Feb 2025) EllapsedTime: 21.4 seconds RetCode: 0 Status: OK PackageFile: netboost_2.15.0.tgz PackageFileSize: 1.116 MiB