Package: netboost Version: 2.15.0 Command: /Library/Frameworks/R.framework/Resources/bin/R CMD check --install=check:netboost.install-out.txt --library=/Library/Frameworks/R.framework/Resources/library --no-vignettes --timings netboost_2.15.0.tar.gz StartedAt: 2025-02-09 20:25:34 -0500 (Sun, 09 Feb 2025) EndedAt: 2025-02-09 20:26:44 -0500 (Sun, 09 Feb 2025) EllapsedTime: 69.8 seconds RetCode: 0 Status: WARNINGS CheckDir: netboost.Rcheck Warnings: 1