Package: netboost Version: 2.15.0 Command: rm -rf netboost.buildbin-libdir && mkdir netboost.buildbin-libdir && /Users/biocbuild/BBS/utils/build-universal.sh netboost_2.15.0.tar.gz /Library/Frameworks/R.framework/Resources/bin/R netboost.buildbin-libdir StartedAt: 2025-02-10 01:05:50 -0500 (Mon, 10 Feb 2025) EndedAt: 2025-02-10 01:07:14 -0500 (Mon, 10 Feb 2025) EllapsedTime: 84.2 seconds RetCode: 0 Status: OK PackageFile: netboost_2.15.0.tgz PackageFileSize: 1.125 MiB