Package: netboost Version: 2.15.0 Command: /home/biocbuild/bbs-3.21-bioc/R/bin/R CMD check --install=check:netboost.install-out.txt --library=/home/biocbuild/bbs-3.21-bioc/R/site-library --timings netboost_2.15.0.tar.gz StartedAt: 2025-02-13 00:46:12 -0500 (Thu, 13 Feb 2025) EndedAt: 2025-02-13 00:49:24 -0500 (Thu, 13 Feb 2025) EllapsedTime: 192.2 seconds RetCode: 0 Status: WARNINGS CheckDir: netboost.Rcheck Warnings: 1