Package: netboost Version: 2.15.0 Command: /home/biocbuild/bbs-3.21-bioc/R/bin/R CMD INSTALL netboost StartedAt: 2025-02-12 15:44:49 -0500 (Wed, 12 Feb 2025) EndedAt: 2025-02-12 15:45:35 -0500 (Wed, 12 Feb 2025) EllapsedTime: 45.9 seconds RetCode: 0 Status: OK