Package: nethet Version: 1.39.0 Command: rm -rf nethet.buildbin-libdir && mkdir nethet.buildbin-libdir && /Users/biocbuild/BBS/utils/build-universal.sh nethet_1.39.0.tar.gz /Library/Frameworks/R.framework/Resources/bin/R nethet.buildbin-libdir StartedAt: 2025-02-09 22:23:32 -0500 (Sun, 09 Feb 2025) EndedAt: 2025-02-09 22:23:39 -0500 (Sun, 09 Feb 2025) EllapsedTime: 7.1 seconds RetCode: 0 Status: OK PackageFile: nethet_1.39.0.tgz PackageFileSize: 1.027 MiB