Package: nethet Version: 1.39.0 Command: /Library/Frameworks/R.framework/Resources/bin/R CMD check --install=check:nethet.install-out.txt --library=/Library/Frameworks/R.framework/Resources/library --no-vignettes --timings nethet_1.39.0.tar.gz StartedAt: 2025-02-09 20:25:39 -0500 (Sun, 09 Feb 2025) EndedAt: 2025-02-09 20:26:57 -0500 (Sun, 09 Feb 2025) EllapsedTime: 78.0 seconds RetCode: 0 Status: WARNINGS CheckDir: nethet.Rcheck Warnings: 1