Package: nethet Version: 1.39.0 Command: rm -rf nethet.buildbin-libdir && mkdir nethet.buildbin-libdir && /Users/biocbuild/BBS/utils/build-universal.sh nethet_1.39.0.tar.gz /Library/Frameworks/R.framework/Resources/bin/R nethet.buildbin-libdir StartedAt: 2025-02-10 01:05:51 -0500 (Mon, 10 Feb 2025) EndedAt: 2025-02-10 01:06:16 -0500 (Mon, 10 Feb 2025) EllapsedTime: 24.2 seconds RetCode: 0 Status: OK PackageFile: nethet_1.39.0.tgz PackageFileSize: 1.022 MiB