Package: nethet Version: 1.39.0 Command: /Library/Frameworks/R.framework/Resources/bin/R CMD build --keep-empty-dirs --no-resave-data nethet StartedAt: 2025-02-09 17:43:34 -0500 (Sun, 09 Feb 2025) EndedAt: 2025-02-09 17:48:07 -0500 (Sun, 09 Feb 2025) EllapsedTime: 273.1 seconds RetCode: 0 Status: OK PackageFile: nethet_1.39.0.tar.gz PackageFileSize: 705.4 KiB