Package: nethet Version: 1.39.0 Command: /Library/Frameworks/R.framework/Resources/bin/R CMD check --install=check:nethet.install-out.txt --library=/Library/Frameworks/R.framework/Resources/library --no-vignettes --timings nethet_1.39.0.tar.gz StartedAt: 2025-02-09 22:19:05 -0500 (Sun, 09 Feb 2025) EndedAt: 2025-02-09 22:22:26 -0500 (Sun, 09 Feb 2025) EllapsedTime: 201.7 seconds RetCode: 0 Status: WARNINGS CheckDir: nethet.Rcheck Warnings: 1