Package: nethet Version: 1.39.0 Command: rm -rf nethet.buildbin-libdir && mkdir nethet.buildbin-libdir && E:\biocbuild\bbs-3.21-bioc\R\bin\R.exe CMD INSTALL --build --library=nethet.buildbin-libdir nethet_1.39.0.tar.gz StartedAt: 2025-02-10 08:16:59 -0500 (Mon, 10 Feb 2025) EndedAt: 2025-02-10 08:18:05 -0500 (Mon, 10 Feb 2025) EllapsedTime: 66.1 seconds RetCode: 0 Status: OK PackageFile: nethet_1.39.0.zip PackageFileSize: 1.026 MiB