Package: nethet Version: 1.39.0 Command: chmod a+r nethet -R && E:\biocbuild\bbs-3.21-bioc\R\bin\R.exe CMD build --keep-empty-dirs --no-resave-data nethet StartedAt: 2025-02-09 20:19:51 -0500 (Sun, 09 Feb 2025) EndedAt: 2025-02-09 20:24:37 -0500 (Sun, 09 Feb 2025) EllapsedTime: 285.2 seconds RetCode: 0 Status: OK PackageFile: nethet_1.39.0.tar.gz PackageFileSize: 700 KiB