Package: netresponse Version: 1.67.0 Command: /home/biocbuild/R/R/bin/R CMD build --keep-empty-dirs --no-resave-data netresponse StartedAt: 2025-01-29 00:51:56 -0000 (Wed, 29 Jan 2025) EndedAt: 2025-01-29 00:52:14 -0000 (Wed, 29 Jan 2025) EllapsedTime: 18.0 seconds RetCode: 0 Status: OK PackageFile: netresponse_1.67.0.tar.gz PackageFileSize: 999.4 KiB