Package: netresponse Version: 1.67.0 Command: /home/biocbuild/bbs-3.21-bioc/R/bin/R CMD check --install=check:netresponse.install-out.txt --library=/home/biocbuild/bbs-3.21-bioc/R/site-library --timings netresponse_1.67.0.tar.gz StartedAt: 2025-02-10 00:46:53 -0500 (Mon, 10 Feb 2025) EndedAt: 2025-02-10 00:48:05 -0500 (Mon, 10 Feb 2025) EllapsedTime: 72.1 seconds RetCode: 0 Status: OK CheckDir: netresponse.Rcheck Warnings: 0