Package: ngsReports Version: 2.9.0 Command: rm -rf ngsReports.buildbin-libdir && mkdir ngsReports.buildbin-libdir && /Users/biocbuild/BBS/utils/build-universal.sh ngsReports_2.9.0.tar.gz /Library/Frameworks/R.framework/Resources/bin/R ngsReports.buildbin-libdir StartedAt: 2025-02-09 22:23:41 -0500 (Sun, 09 Feb 2025) EndedAt: 2025-02-09 22:23:49 -0500 (Sun, 09 Feb 2025) EllapsedTime: 8.1 seconds RetCode: 0 Status: OK PackageFile: ngsReports_2.9.0.tgz PackageFileSize: 3.799 MiB