Package: ngsReports Version: 2.9.0 Command: /Library/Frameworks/R.framework/Resources/bin/R CMD build --keep-empty-dirs --no-resave-data ngsReports StartedAt: 2025-02-09 17:07:40 -0500 (Sun, 09 Feb 2025) EndedAt: 2025-02-09 17:08:09 -0500 (Sun, 09 Feb 2025) EllapsedTime: 29.3 seconds RetCode: 0 Status: OK PackageFile: ngsReports_2.9.0.tar.gz PackageFileSize: 3.191 MiB