Package: ngsReports Version: 2.9.0 Command: /Library/Frameworks/R.framework/Resources/bin/R CMD check --install=check:ngsReports.install-out.txt --library=/Library/Frameworks/R.framework/Resources/library --no-vignettes --timings ngsReports_2.9.0.tar.gz StartedAt: 2025-02-09 20:26:43 -0500 (Sun, 09 Feb 2025) EndedAt: 2025-02-09 20:27:51 -0500 (Sun, 09 Feb 2025) EllapsedTime: 67.9 seconds RetCode: 0 Status: OK CheckDir: ngsReports.Rcheck Warnings: 0