Package: ngsReports Version: 2.9.0 Command: /Library/Frameworks/R.framework/Resources/bin/R CMD check --install=check:ngsReports.install-out.txt --library=/Library/Frameworks/R.framework/Resources/library --no-vignettes --timings ngsReports_2.9.0.tar.gz StartedAt: 2025-02-09 22:21:04 -0500 (Sun, 09 Feb 2025) EndedAt: 2025-02-09 22:24:30 -0500 (Sun, 09 Feb 2025) EllapsedTime: 205.7 seconds RetCode: 0 Status: OK CheckDir: ngsReports.Rcheck Warnings: 0