Package: ngsReports Version: 2.9.0 Command: /Library/Frameworks/R.framework/Resources/bin/R CMD INSTALL ngsReports StartedAt: 2025-02-09 15:26:39 -0500 (Sun, 09 Feb 2025) EndedAt: 2025-02-09 15:27:04 -0500 (Sun, 09 Feb 2025) EllapsedTime: 25.5 seconds RetCode: 0 Status: OK