Package: ngsReports Version: 2.9.0 Command: /home/biocbuild/bbs-3.21-bioc/R/bin/R CMD build --keep-empty-dirs --no-resave-data ngsReports StartedAt: 2025-02-09 18:25:22 -0500 (Sun, 09 Feb 2025) EndedAt: 2025-02-09 18:26:47 -0500 (Sun, 09 Feb 2025) EllapsedTime: 85.2 seconds RetCode: 0 Status: OK PackageFile: ngsReports_2.9.0.tar.gz PackageFileSize: 3.192 MiB